BEGIN:VCALENDAR
VERSION:2.0
PRODID:-//Tin Secret Singapore  - ECPv6.2.9//NONSGML v1.0//EN
CALSCALE:GREGORIAN
METHOD:PUBLISH
X-WR-CALNAME:Tin Secret Singapore 
X-ORIGINAL-URL:https://tinsecret.com.sg
X-WR-CALDESC:Events for Tin Secret Singapore 
REFRESH-INTERVAL;VALUE=DURATION:PT1H
X-Robots-Tag:noindex
X-PUBLISHED-TTL:PT1H
BEGIN:VTIMEZONE
TZID:Asia/Shanghai
BEGIN:STANDARD
TZOFFSETFROM:+0800
TZOFFSETTO:+0800
TZNAME:CST
DTSTART:20230101T000000
END:STANDARD
END:VTIMEZONE
BEGIN:VEVENT
DTSTART;TZID=Asia/Shanghai:20230923T180000
DTEND;TZID=Asia/Shanghai:20230923T210000
DTSTAMP:20260424T200640
CREATED:20230830T031920Z
LAST-MODIFIED:20230830T031922Z
UID:13517-1695492000-1695502800@tinsecret.com.sg
SUMMARY:Mid Autumn Beach Potluck
DESCRIPTION:Join us in our Mid Autumn Potluck at East Coast Park Area D! Do contact us for more information and sign ups.
URL:https://tinsecret.com.sg/event/mid-autumn-beach-potluck/
LOCATION:East Coast Park Area D Pit 39
END:VEVENT
END:VCALENDAR